<Capabilities xmlns="http://www.opengis.net/wmts/1.0" version="1.0.0" xmlns:xsi="http://www.w3.org/2001/XMLSchema-instance" xsi:schemaLocation="http://www.opengis.net/wmts/1.0 http://schemas.opengis.net/wmts/1.0/wmtsGetCapabilities_response.xsd"><ows:ServiceIdentification xmlns:ows="http://www.opengis.net/ows/1.1"><ows:Title>Earth at Night</ows:Title><ows:Abstract>The Earth at night, released by NASA. For more information, see NASA Earth Observatory &lt;a href="https://earthobservatory.nasa.gov/features/NightLights" target="_blank">"Night Lights"&lt;/a>.
Raster tiles on zoom levels 0 to 6 were derived from a 54000x27000 pixel GeoTIFF image using &lt;a href="https://github.com/mapbox/rio-mbtiles" target="_blank">rio-mbtiles&lt;/a>.</ows:Abstract><ows:Keywords><ows:Keyword>ldproxy</ows:Keyword><ows:Keyword>OGC API Standards</ows:Keyword></ows:Keywords><ows:ServiceType>OGC WMTS</ows:ServiceType><ows:ServiceTypeVersion>1.0.0</ows:ServiceTypeVersion><ows:AccessConstraints>License: Public Domain</ows:AccessConstraints></ows:ServiceIdentification><ows:ServiceProvider xmlns:ows="http://www.opengis.net/ows/1.1"><ows:ProviderName>interactive instruments GmbH</ows:ProviderName><ows:ProviderSite xmlns:xlink="http://www.w3.org/1999/xlink" xlink:href="https://www.interactive-instruments.de/"/><ows:ServiceContact><ows:IndividualName>Clemens Portele</ows:IndividualName><ows:ContactInfo><ows:Address><ows:ElectronicMailAddress>portele@interactive-instruments.de</ows:ElectronicMailAddress></ows:Address></ows:ContactInfo></ows:ServiceContact></ows:ServiceProvider><Contents><Layer><ows:Title xmlns:ows="http://www.opengis.net/ows/1.1">Earth at Night</ows:Title><ows:Abstract xmlns:ows="http://www.opengis.net/ows/1.1">The Earth at night, released by NASA. For more information, see NASA Earth Observatory &lt;a href="https://earthobservatory.nasa.gov/features/NightLights" target="_blank">"Night Lights"&lt;/a>.
Raster tiles on zoom levels 0 to 6 were derived from a 54000x27000 pixel GeoTIFF image using &lt;a href="https://github.com/mapbox/rio-mbtiles" target="_blank">rio-mbtiles&lt;/a>.</ows:Abstract><ows:WGS84BoundingBox xmlns:ows="http://www.opengis.net/ows/1.1"><ows:LowerCorner>-180.0 -85.051129</ows:LowerCorner><ows:UpperCorner>180.0 85.051129</ows:UpperCorner></ows:WGS84BoundingBox><ows:Identifier xmlns:ows="http://www.opengis.net/ows/1.1">earthatnight</ows:Identifier><Style><ows:Identifier xmlns:ows="http://www.opengis.net/ows/1.1">default</ows:Identifier></Style><Format>image/jpeg</Format><TileMatrixSetLink><TileMatrixSet>WebMercatorQuad</TileMatrixSet><TileMatrixSetLimits><TileMatrixLimits><TileMatrix>0</TileMatrix><MinTileRow>0</MinTileRow><MaxTileRow>0</MaxTileRow><MinTileCol>0</MinTileCol><MaxTileCol>0</MaxTileCol></TileMatrixLimits><TileMatrixLimits><TileMatrix>1</TileMatrix><MinTileRow>0</MinTileRow><MaxTileRow>1</MaxTileRow><MinTileCol>0</MinTileCol><MaxTileCol>1</MaxTileCol></TileMatrixLimits><TileMatrixLimits><TileMatrix>2</TileMatrix><MinTileRow>0</MinTileRow><MaxTileRow>3</MaxTileRow><MinTileCol>0</MinTileCol><MaxTileCol>3</MaxTileCol></TileMatrixLimits><TileMatrixLimits><TileMatrix>3</TileMatrix><MinTileRow>0</MinTileRow><MaxTileRow>7</MaxTileRow><MinTileCol>0</MinTileCol><MaxTileCol>7</MaxTileCol></TileMatrixLimits><TileMatrixLimits><TileMatrix>4</TileMatrix><MinTileRow>0</MinTileRow><MaxTileRow>15</MaxTileRow><MinTileCol>0</MinTileCol><MaxTileCol>15</MaxTileCol></TileMatrixLimits><TileMatrixLimits><TileMatrix>5</TileMatrix><MinTileRow>0</MinTileRow><MaxTileRow>31</MaxTileRow><MinTileCol>0</MinTileCol><MaxTileCol>31</MaxTileCol></TileMatrixLimits><TileMatrixLimits><TileMatrix>6</TileMatrix><MinTileRow>0</MinTileRow><MaxTileRow>63</MaxTileRow><MinTileCol>0</MinTileCol><MaxTileCol>63</MaxTileCol></TileMatrixLimits><TileMatrixLimits><TileMatrix>7</TileMatrix><MinTileRow>0</MinTileRow><MaxTileRow>127</MaxTileRow><MinTileCol>0</MinTileCol><MaxTileCol>127</MaxTileCol></TileMatrixLimits><TileMatrixLimits><TileMatrix>8</TileMatrix><MinTileRow>0</MinTileRow><MaxTileRow>255</MaxTileRow><MinTileCol>0</MinTileCol><MaxTileCol>255</MaxTileCol></TileMatrixLimits><TileMatrixLimits><TileMatrix>9</TileMatrix><MinTileRow>0</MinTileRow><MaxTileRow>511</MaxTileRow><MinTileCol>0</MinTileCol><MaxTileCol>511</MaxTileCol></TileMatrixLimits><TileMatrixLimits><TileMatrix>10</TileMatrix><MinTileRow>0</MinTileRow><MaxTileRow>1023</MaxTileRow><MinTileCol>0</MinTileCol><MaxTileCol>1023</MaxTileCol></TileMatrixLimits><TileMatrixLimits><TileMatrix>11</TileMatrix><MinTileRow>0</MinTileRow><MaxTileRow>2047</MaxTileRow><MinTileCol>0</MinTileCol><MaxTileCol>2047</MaxTileCol></TileMatrixLimits><TileMatrixLimits><TileMatrix>12</TileMatrix><MinTileRow>0</MinTileRow><MaxTileRow>4095</MaxTileRow><MinTileCol>0</MinTileCol><MaxTileCol>4095</MaxTileCol></TileMatrixLimits><TileMatrixLimits><TileMatrix>13</TileMatrix><MinTileRow>0</MinTileRow><MaxTileRow>8191</MaxTileRow><MinTileCol>0</MinTileCol><MaxTileCol>8191</MaxTileCol></TileMatrixLimits><TileMatrixLimits><TileMatrix>14</TileMatrix><MinTileRow>0</MinTileRow><MaxTileRow>16383</MaxTileRow><MinTileCol>0</MinTileCol><MaxTileCol>16383</MaxTileCol></TileMatrixLimits><TileMatrixLimits><TileMatrix>15</TileMatrix><MinTileRow>0</MinTileRow><MaxTileRow>32767</MaxTileRow><MinTileCol>0</MinTileCol><MaxTileCol>32767</MaxTileCol></TileMatrixLimits><TileMatrixLimits><TileMatrix>16</TileMatrix><MinTileRow>0</MinTileRow><MaxTileRow>65535</MaxTileRow><MinTileCol>0</MinTileCol><MaxTileCol>65535</MaxTileCol></TileMatrixLimits><TileMatrixLimits><TileMatrix>17</TileMatrix><MinTileRow>0</MinTileRow><MaxTileRow>131071</MaxTileRow><MinTileCol>0</MinTileCol><MaxTileCol>131071</MaxTileCol></TileMatrixLimits><TileMatrixLimits><TileMatrix>18</TileMatrix><MinTileRow>0</MinTileRow><MaxTileRow>262143</MaxTileRow><MinTileCol>0</MinTileCol><MaxTileCol>262143</MaxTileCol></TileMatrixLimits><TileMatrixLimits><TileMatrix>19</TileMatrix><MinTileRow>0</MinTileRow><MaxTileRow>524287</MaxTileRow><MinTileCol>0</MinTileCol><MaxTileCol>524287</MaxTileCol></TileMatrixLimits><TileMatrixLimits><TileMatrix>20</TileMatrix><MinTileRow>0</MinTileRow><MaxTileRow>1048575</MaxTileRow><MinTileCol>0</MinTileCol><MaxTileCol>1048575</MaxTileCol></TileMatrixLimits><TileMatrixLimits><TileMatrix>21</TileMatrix><MinTileRow>0</MinTileRow><MaxTileRow>2097151</MaxTileRow><MinTileCol>0</MinTileCol><MaxTileCol>2097151</MaxTileCol></TileMatrixLimits><TileMatrixLimits><TileMatrix>22</TileMatrix><MinTileRow>0</MinTileRow><MaxTileRow>4194303</MaxTileRow><MinTileCol>0</MinTileCol><MaxTileCol>4194303</MaxTileCol></TileMatrixLimits><TileMatrixLimits><TileMatrix>23</TileMatrix><MinTileRow>0</MinTileRow><MaxTileRow>8388607</MaxTileRow><MinTileCol>0</MinTileCol><MaxTileCol>8388607</MaxTileCol></TileMatrixLimits><TileMatrixLimits><TileMatrix>24</TileMatrix><MinTileRow>0</MinTileRow><MaxTileRow>16777215</MaxTileRow><MinTileCol>0</MinTileCol><MaxTileCol>16777215</MaxTileCol></TileMatrixLimits></TileMatrixSetLimits></TileMatrixSetLink><ResourceURL format="image/jpeg" resourceType="tile" template="https://demo.ldproxy.net/earthatnight/map/tiles/{TileMatrixSet}/{TileMatrix}/{TileRow}/{TileCol}"/></Layer><TileMatrixSet><ows:Identifier xmlns:ows="http://www.opengis.net/ows/1.1">WebMercatorQuad</ows:Identifier><ows:SupportedCRS xmlns:ows="http://www.opengis.net/ows/1.1">EPSG:3857</ows:SupportedCRS><WellKnownScaleSet>http://www.opengis.net/def/wkss/OGC/1.0/GoogleMapsCompatible</WellKnownScaleSet><TileMatrix><ows:Identifier xmlns:ows="http://www.opengis.net/ows/1.1">0</ows:Identifier><ScaleDenominator>559082264.028717</ScaleDenominator><TopLeftCorner>-20037508.3427892 20037508.3427892</TopLeftCorner><TileWidth>256</TileWidth><TileHeight>256</TileHeight><MatrixWidth>1</MatrixWidth><MatrixHeight>1</MatrixHeight></TileMatrix><TileMatrix><ows:Identifier xmlns:ows="http://www.opengis.net/ows/1.1">1</ows:Identifier><ScaleDenominator>279541132.014358</ScaleDenominator><TopLeftCorner>-20037508.3427892 20037508.3427892</TopLeftCorner><TileWidth>256</TileWidth><TileHeight>256</TileHeight><MatrixWidth>2</MatrixWidth><MatrixHeight>2</MatrixHeight></TileMatrix><TileMatrix><ows:Identifier xmlns:ows="http://www.opengis.net/ows/1.1">2</ows:Identifier><ScaleDenominator>139770566.007179</ScaleDenominator><TopLeftCorner>-20037508.3427892 20037508.3427892</TopLeftCorner><TileWidth>256</TileWidth><TileHeight>256</TileHeight><MatrixWidth>4</MatrixWidth><MatrixHeight>4</MatrixHeight></TileMatrix><TileMatrix><ows:Identifier xmlns:ows="http://www.opengis.net/ows/1.1">3</ows:Identifier><ScaleDenominator>69885283.0035897</ScaleDenominator><TopLeftCorner>-20037508.3427892 20037508.3427892</TopLeftCorner><TileWidth>256</TileWidth><TileHeight>256</TileHeight><MatrixWidth>8</MatrixWidth><MatrixHeight>8</MatrixHeight></TileMatrix><TileMatrix><ows:Identifier xmlns:ows="http://www.opengis.net/ows/1.1">4</ows:Identifier><ScaleDenominator>34942641.5017948</ScaleDenominator><TopLeftCorner>-20037508.3427892 20037508.3427892</TopLeftCorner><TileWidth>256</TileWidth><TileHeight>256</TileHeight><MatrixWidth>16</MatrixWidth><MatrixHeight>16</MatrixHeight></TileMatrix><TileMatrix><ows:Identifier xmlns:ows="http://www.opengis.net/ows/1.1">5</ows:Identifier><ScaleDenominator>17471320.7508974</ScaleDenominator><TopLeftCorner>-20037508.3427892 20037508.3427892</TopLeftCorner><TileWidth>256</TileWidth><TileHeight>256</TileHeight><MatrixWidth>32</MatrixWidth><MatrixHeight>32</MatrixHeight></TileMatrix><TileMatrix><ows:Identifier xmlns:ows="http://www.opengis.net/ows/1.1">6</ows:Identifier><ScaleDenominator>8735660.37544871</ScaleDenominator><TopLeftCorner>-20037508.3427892 20037508.3427892</TopLeftCorner><TileWidth>256</TileWidth><TileHeight>256</TileHeight><MatrixWidth>64</MatrixWidth><MatrixHeight>64</MatrixHeight></TileMatrix><TileMatrix><ows:Identifier xmlns:ows="http://www.opengis.net/ows/1.1">7</ows:Identifier><ScaleDenominator>4367830.18772435</ScaleDenominator><TopLeftCorner>-20037508.3427892 20037508.3427892</TopLeftCorner><TileWidth>256</TileWidth><TileHeight>256</TileHeight><MatrixWidth>128</MatrixWidth><MatrixHeight>128</MatrixHeight></TileMatrix><TileMatrix><ows:Identifier xmlns:ows="http://www.opengis.net/ows/1.1">8</ows:Identifier><ScaleDenominator>2183915.09386217</ScaleDenominator><TopLeftCorner>-20037508.3427892 20037508.3427892</TopLeftCorner><TileWidth>256</TileWidth><TileHeight>256</TileHeight><MatrixWidth>256</MatrixWidth><MatrixHeight>256</MatrixHeight></TileMatrix><TileMatrix><ows:Identifier xmlns:ows="http://www.opengis.net/ows/1.1">9</ows:Identifier><ScaleDenominator>1091957.54693108</ScaleDenominator><TopLeftCorner>-20037508.3427892 20037508.3427892</TopLeftCorner><TileWidth>256</TileWidth><TileHeight>256</TileHeight><MatrixWidth>512</MatrixWidth><MatrixHeight>512</MatrixHeight></TileMatrix><TileMatrix><ows:Identifier xmlns:ows="http://www.opengis.net/ows/1.1">10</ows:Identifier><ScaleDenominator>545978.773465544</ScaleDenominator><TopLeftCorner>-20037508.3427892 20037508.3427892</TopLeftCorner><TileWidth>256</TileWidth><TileHeight>256</TileHeight><MatrixWidth>1024</MatrixWidth><MatrixHeight>1024</MatrixHeight></TileMatrix><TileMatrix><ows:Identifier xmlns:ows="http://www.opengis.net/ows/1.1">11</ows:Identifier><ScaleDenominator>272989.386732772</ScaleDenominator><TopLeftCorner>-20037508.3427892 20037508.3427892</TopLeftCorner><TileWidth>256</TileWidth><TileHeight>256</TileHeight><MatrixWidth>2048</MatrixWidth><MatrixHeight>2048</MatrixHeight></TileMatrix><TileMatrix><ows:Identifier xmlns:ows="http://www.opengis.net/ows/1.1">12</ows:Identifier><ScaleDenominator>136494.693366386</ScaleDenominator><TopLeftCorner>-20037508.3427892 20037508.3427892</TopLeftCorner><TileWidth>256</TileWidth><TileHeight>256</TileHeight><MatrixWidth>4096</MatrixWidth><MatrixHeight>4096</MatrixHeight></TileMatrix><TileMatrix><ows:Identifier xmlns:ows="http://www.opengis.net/ows/1.1">13</ows:Identifier><ScaleDenominator>68247.346683193</ScaleDenominator><TopLeftCorner>-20037508.3427892 20037508.3427892</TopLeftCorner><TileWidth>256</TileWidth><TileHeight>256</TileHeight><MatrixWidth>8192</MatrixWidth><MatrixHeight>8192</MatrixHeight></TileMatrix><TileMatrix><ows:Identifier xmlns:ows="http://www.opengis.net/ows/1.1">14</ows:Identifier><ScaleDenominator>34123.6733415964</ScaleDenominator><TopLeftCorner>-20037508.3427892 20037508.3427892</TopLeftCorner><TileWidth>256</TileWidth><TileHeight>256</TileHeight><MatrixWidth>16384</MatrixWidth><MatrixHeight>16384</MatrixHeight></TileMatrix><TileMatrix><ows:Identifier xmlns:ows="http://www.opengis.net/ows/1.1">15</ows:Identifier><ScaleDenominator>17061.8366707982</ScaleDenominator><TopLeftCorner>-20037508.3427892 20037508.3427892</TopLeftCorner><TileWidth>256</TileWidth><TileHeight>256</TileHeight><MatrixWidth>32768</MatrixWidth><MatrixHeight>32768</MatrixHeight></TileMatrix><TileMatrix><ows:Identifier xmlns:ows="http://www.opengis.net/ows/1.1">16</ows:Identifier><ScaleDenominator>8530.91833539913</ScaleDenominator><TopLeftCorner>-20037508.3427892 20037508.3427892</TopLeftCorner><TileWidth>256</TileWidth><TileHeight>256</TileHeight><MatrixWidth>65536</MatrixWidth><MatrixHeight>65536</MatrixHeight></TileMatrix><TileMatrix><ows:Identifier xmlns:ows="http://www.opengis.net/ows/1.1">17</ows:Identifier><ScaleDenominator>4265.45916769956</ScaleDenominator><TopLeftCorner>-20037508.3427892 20037508.3427892</TopLeftCorner><TileWidth>256</TileWidth><TileHeight>256</TileHeight><MatrixWidth>131072</MatrixWidth><MatrixHeight>131072</MatrixHeight></TileMatrix><TileMatrix><ows:Identifier xmlns:ows="http://www.opengis.net/ows/1.1">18</ows:Identifier><ScaleDenominator>2132.72958384978</ScaleDenominator><TopLeftCorner>-20037508.3427892 20037508.3427892</TopLeftCorner><TileWidth>256</TileWidth><TileHeight>256</TileHeight><MatrixWidth>262144</MatrixWidth><MatrixHeight>262144</MatrixHeight></TileMatrix><TileMatrix><ows:Identifier xmlns:ows="http://www.opengis.net/ows/1.1">19</ows:Identifier><ScaleDenominator>1066.36479192489</ScaleDenominator><TopLeftCorner>-20037508.3427892 20037508.3427892</TopLeftCorner><TileWidth>256</TileWidth><TileHeight>256</TileHeight><MatrixWidth>524288</MatrixWidth><MatrixHeight>524288</MatrixHeight></TileMatrix><TileMatrix><ows:Identifier xmlns:ows="http://www.opengis.net/ows/1.1">20</ows:Identifier><ScaleDenominator>533.182395962445</ScaleDenominator><TopLeftCorner>-20037508.3427892 20037508.3427892</TopLeftCorner><TileWidth>256</TileWidth><TileHeight>256</TileHeight><MatrixWidth>1048576</MatrixWidth><MatrixHeight>1048576</MatrixHeight></TileMatrix><TileMatrix><ows:Identifier xmlns:ows="http://www.opengis.net/ows/1.1">21</ows:Identifier><ScaleDenominator>266.591197981222</ScaleDenominator><TopLeftCorner>-20037508.3427892 20037508.3427892</TopLeftCorner><TileWidth>256</TileWidth><TileHeight>256</TileHeight><MatrixWidth>2097152</MatrixWidth><MatrixHeight>2097152</MatrixHeight></TileMatrix><TileMatrix><ows:Identifier xmlns:ows="http://www.opengis.net/ows/1.1">22</ows:Identifier><ScaleDenominator>133.295598990611</ScaleDenominator><TopLeftCorner>-20037508.3427892 20037508.3427892</TopLeftCorner><TileWidth>256</TileWidth><TileHeight>256</TileHeight><MatrixWidth>4194304</MatrixWidth><MatrixHeight>4194304</MatrixHeight></TileMatrix><TileMatrix><ows:Identifier xmlns:ows="http://www.opengis.net/ows/1.1">23</ows:Identifier><ScaleDenominator>66.6477994953056</ScaleDenominator><TopLeftCorner>-20037508.3427892 20037508.3427892</TopLeftCorner><TileWidth>256</TileWidth><TileHeight>256</TileHeight><MatrixWidth>8388608</MatrixWidth><MatrixHeight>8388608</MatrixHeight></TileMatrix><TileMatrix><ows:Identifier xmlns:ows="http://www.opengis.net/ows/1.1">24</ows:Identifier><ScaleDenominator>33.3238997476528</ScaleDenominator><TopLeftCorner>-20037508.3427892 20037508.3427892</TopLeftCorner><TileWidth>256</TileWidth><TileHeight>256</TileHeight><MatrixWidth>16777216</MatrixWidth><MatrixHeight>16777216</MatrixHeight></TileMatrix></TileMatrixSet></Contents><ServiceMetadataURL xmlns:xlink="http://www.w3.org/1999/xlink" xlink:href="https://demo.ldproxy.net/earthatnight/wmts/1.0.0/WMTSCapabilities.xml"/></Capabilities>